BEGIN:VCALENDAR
VERSION:2.0
PRODID:-//Department Of Education//f6c1a50b-32c5-4ef9-8756-2ddbfb01b66d
BEGIN:VTIMEZONE
TZID:Australia/Sydney
TZURL:http://tzurl.org/zoneinfo-outlook/Australia/Sydney
X-LIC-LOCATION:Australia/Sydney
BEGIN:STANDARD
TZOFFSETFROM:+1100
TZOFFSETTO:+1000
TZNAME:AEST
DTSTART:19700405T030000
RRULE:FREQ=YEARLY;BYMONTH=4;BYDAY=1SU
END:STANDARD
BEGIN:DAYLIGHT
TZOFFSETFROM:+1000
TZOFFSETTO:+1100
TZNAME:AEDT
DTSTART:19701004T020000
RRULE:FREQ=YEARLY;BYMONTH=10;BYDAY=1SU
END:DAYLIGHT
END:VTIMEZONE
CALSCALE:GREGORIAN
X-WR-TIMEZONE:Australia/Sydney
BEGIN:VEVENT
DTSTART;VALUE=DATE:20200409
DTEND;VALUE=DATE:20200410
DTSTAMP:20200409T000000Z
UID:53c7d92d-d0a4-4911-8d97-ce909b6e974f
LOCATION:School
SUMMARY;LANGUAGE=en-us:Last Day of Term 1 - School Holidays tomorrow
SEQUENCE:0
DESCRIPTION:Today is the final day of Term 1. The school will be on holidays for 2 weeks and students will return on Tuesday 28th April.
END:VEVENT
TRANSP:TRANSPARENT
END:VCALENDAR
