BEGIN:VCALENDAR
VERSION:2.0
PRODID:-//Department Of Education//0a6da343-ba56-401b-946f-c0203d9c8213
BEGIN:VTIMEZONE
TZID:Australia/Sydney
TZURL:http://tzurl.org/zoneinfo-outlook/Australia/Sydney
X-LIC-LOCATION:Australia/Sydney
BEGIN:STANDARD
TZOFFSETFROM:+1100
TZOFFSETTO:+1000
TZNAME:AEST
DTSTART:19700405T030000
RRULE:FREQ=YEARLY;BYMONTH=4;BYDAY=1SU
END:STANDARD
BEGIN:DAYLIGHT
TZOFFSETFROM:+1000
TZOFFSETTO:+1100
TZNAME:AEDT
DTSTART:19701004T020000
RRULE:FREQ=YEARLY;BYMONTH=10;BYDAY=1SU
END:DAYLIGHT
END:VTIMEZONE
CALSCALE:GREGORIAN
X-WR-TIMEZONE:Australia/Sydney
BEGIN:VEVENT
DTSTART;TZID=Australia/Sydney:20200409T090037
DTEND;TZID=Australia/Sydney:20200409T093044
DTSTAMP:20200409T000000Z
UID:77f401a4-48f4-40a9-b69e-713cb7d0df6b
LOCATION:COLA
SUMMARY;LANGUAGE=en-us:Easter Hat Parade
SEQUENCE:0
DESCRIPTION:Parents and the community are invited to join us for our annual Easter Hat Parade from 9am under the COLA. Design your own hat and come along.
END:VEVENT
TRANSP:TRANSPARENT
END:VCALENDAR
