BEGIN:VCALENDAR
VERSION:2.0
PRODID:-//Department Of Education//12b91e36-9e6f-4589-9237-364f6cc12968
BEGIN:VTIMEZONE
TZID:Australia/Sydney
TZURL:http://tzurl.org/zoneinfo-outlook/Australia/Sydney
X-LIC-LOCATION:Australia/Sydney
BEGIN:STANDARD
TZOFFSETFROM:+1100
TZOFFSETTO:+1000
TZNAME:AEST
DTSTART:19700405T030000
RRULE:FREQ=YEARLY;BYMONTH=4;BYDAY=1SU
END:STANDARD
BEGIN:DAYLIGHT
TZOFFSETFROM:+1000
TZOFFSETTO:+1100
TZNAME:AEDT
DTSTART:19701004T020000
RRULE:FREQ=YEARLY;BYMONTH=10;BYDAY=1SU
END:DAYLIGHT
END:VTIMEZONE
CALSCALE:GREGORIAN
X-WR-TIMEZONE:Australia/Sydney
BEGIN:VEVENT
DTSTART;VALUE=DATE:20200313
DTEND;VALUE=DATE:20200314
DTSTAMP:20200313T000000Z
UID:6d97032b-5196-4fd9-9a37-89c703cc15b0
LOCATION:School
SUMMARY;LANGUAGE=en-us:World's Greatest Shave
SEQUENCE:0
DESCRIPTION:Join us for our Crazy Hair Day in aid of the World's Greatest Shave. Go wild with your hair. If your parents let you colour your hair, do a funny style, put extra ribbons in it. A gold coin donation will be collected on the day.
END:VEVENT
TRANSP:TRANSPARENT
END:VCALENDAR
