BEGIN:VCALENDAR
VERSION:2.0
PRODID:-//Department Of Education//92bb62c4-3aa6-4747-8414-b70ebf2c04f0
BEGIN:VTIMEZONE
TZID:Australia/Sydney
TZURL:http://tzurl.org/zoneinfo-outlook/Australia/Sydney
X-LIC-LOCATION:Australia/Sydney
BEGIN:STANDARD
TZOFFSETFROM:+1100
TZOFFSETTO:+1000
TZNAME:AEST
DTSTART:19700405T030000
RRULE:FREQ=YEARLY;BYMONTH=4;BYDAY=1SU
END:STANDARD
BEGIN:DAYLIGHT
TZOFFSETFROM:+1000
TZOFFSETTO:+1100
TZNAME:AEDT
DTSTART:19701004T020000
RRULE:FREQ=YEARLY;BYMONTH=10;BYDAY=1SU
END:DAYLIGHT
END:VTIMEZONE
CALSCALE:GREGORIAN
X-WR-TIMEZONE:Australia/Sydney
BEGIN:VEVENT
DTSTART;VALUE=DATE:20200311
DTEND;VALUE=DATE:20200312
DTSTAMP:20200311T000000Z
UID:dd1b5fdc-bbfc-4dff-bd9a-5e944ebfcdb0
LOCATION:Albury
SUMMARY;LANGUAGE=en-us:Riverina Swimming Carnival
SEQUENCE:0
DESCRIPTION:Only students selected at the District Swimming Carnival will be invited to attend the Regional Swimming Carnival.
END:VEVENT
TRANSP:TRANSPARENT
END:VCALENDAR
