BEGIN:VCALENDAR
VERSION:2.0
PRODID:-//Department Of Education//d7942491-6594-4b68-90c6-22d5f105ea3c
BEGIN:VTIMEZONE
TZID:Australia/Sydney
TZURL:http://tzurl.org/zoneinfo-outlook/Australia/Sydney
X-LIC-LOCATION:Australia/Sydney
BEGIN:STANDARD
TZOFFSETFROM:+1100
TZOFFSETTO:+1000
TZNAME:AEST
DTSTART:19700405T030000
RRULE:FREQ=YEARLY;BYMONTH=4;BYDAY=1SU
END:STANDARD
BEGIN:DAYLIGHT
TZOFFSETFROM:+1000
TZOFFSETTO:+1100
TZNAME:AEDT
DTSTART:19701004T020000
RRULE:FREQ=YEARLY;BYMONTH=10;BYDAY=1SU
END:DAYLIGHT
END:VTIMEZONE
CALSCALE:GREGORIAN
X-WR-TIMEZONE:Australia/Sydney
BEGIN:VEVENT
DTSTART;VALUE=DATE:20200302
DTEND;VALUE=DATE:20200303
DTSTAMP:20200302T000000Z
UID:26bb96f1-0d81-423d-b698-c39f3955dd48
LOCATION:OASIS Regional Swimming Centre
SUMMARY;LANGUAGE=en-us:District Swimming Carnival
SEQUENCE:0
DESCRIPTION:Primary students who were selected at the WWCoSS Swimming Carnival will be invited to the District Swimming Carnival. Students need to come first in some events or first or second in other events. They also need to meet the time limits that are set for each events. If your child comes first in their heat they may not be selected to go on as it depends on how many heats there were in that age group and if they used the correct swimming technique. Contact us if you need clarification about if your child has been selected for certain events. We will let your child know if they have been selected.
END:VEVENT
TRANSP:TRANSPARENT
END:VCALENDAR
